cURL Error: 0BEGIN:VCALENDAR
VERSION:2.0
PRODID:-// - ECPv5.3.1.1//NONSGML v1.0//EN
CALSCALE:GREGORIAN
METHOD:PUBLISH
X-ORIGINAL-URL:https://www.vocesindaco.it
X-WR-CALDESC:Eventi per 
BEGIN:VTIMEZONE
TZID:UTC
BEGIN:STANDARD
TZOFFSETFROM:+0000
TZOFFSETTO:+0000
TZNAME:UTC
DTSTART:20200101T000000
END:STANDARD
END:VTIMEZONE
BEGIN:VEVENT
DTSTART;TZID=UTC:20200903T180000
DTEND;TZID=UTC:20200903T190000
DTSTAMP:20260423T084923
CREATED:20200902T071145Z
LAST-MODIFIED:20200902T072655Z
UID:3046-1599156000-1599159600@www.vocesindaco.it
SUMMARY:Diamo VOCE a Crotone! @Quartiere Margherita
DESCRIPTION:
URL:https://www.vocesindaco.it/event/diamo-voce-a-crotone-quartiere-margherita/
LOCATION:Via delle Orchidee\, loc. Margherita c/o Chiesa Giovanni Paolo II\, Crotone\, KR\, 88900\, Italia
CATEGORIES:Riprendiamoci il nostro futuro TOUR
ATTACH;FMTTYPE=image/jpeg:https://www.vocesindaco.it/wp-content/uploads/2020/09/evento_margherita_Tavola-disegno-1.jpg
END:VEVENT
END:VCALENDAR