cURL Error: 0BEGIN:VCALENDAR
VERSION:2.0
PRODID:-// - ECPv5.3.1.1//NONSGML v1.0//EN
CALSCALE:GREGORIAN
METHOD:PUBLISH
X-ORIGINAL-URL:https://www.vocesindaco.it
X-WR-CALDESC:Eventi per 
BEGIN:VTIMEZONE
TZID:UTC
BEGIN:STANDARD
TZOFFSETFROM:+0000
TZOFFSETTO:+0000
TZNAME:UTC
DTSTART:20200101T000000
END:STANDARD
END:VTIMEZONE
BEGIN:VEVENT
DTSTART;TZID=UTC:20200828T180000
DTEND;TZID=UTC:20200828T200000
DTSTAMP:20260423T084713
CREATED:20200827T113848Z
LAST-MODIFIED:20200827T120934Z
UID:2898-1598637600-1598644800@www.vocesindaco.it
SUMMARY:Conferenza stampa Presentazioni Vincenzo Voce SINDACO
DESCRIPTION:
URL:https://www.vocesindaco.it/event/conferenza-stampa-presentazioni-vincenzo-voce-sindaco/
LOCATION:Piazza Marinai d’Italia\, Piazza Marinai d'Italia\, Crotone\, KR\, 88900\, Italia
CATEGORIES:Riprendiamoci il nostro futuro TOUR
ATTACH;FMTTYPE=image/jpeg:https://www.vocesindaco.it/wp-content/uploads/2020/08/evento_28Agosto_Tavola-disegno-1-e1598529078875.jpg
END:VEVENT
END:VCALENDAR